BEGIN:VCALENDAR
VERSION:2.0
PRODID:-//Jutta Paulus - ECPv6.15.20//NONSGML v1.0//EN
CALSCALE:GREGORIAN
METHOD:PUBLISH
X-WR-CALNAME:Jutta Paulus
X-ORIGINAL-URL:https://www.jutta-paulus.de
X-WR-CALDESC:Veranstaltungen für Jutta Paulus
REFRESH-INTERVAL;VALUE=DURATION:PT1H
X-Robots-Tag:noindex
X-PUBLISHED-TTL:PT1H
BEGIN:VTIMEZONE
TZID:Europe/Berlin
BEGIN:DAYLIGHT
TZOFFSETFROM:+0100
TZOFFSETTO:+0200
TZNAME:CEST
DTSTART:20230326T010000
END:DAYLIGHT
BEGIN:STANDARD
TZOFFSETFROM:+0200
TZOFFSETTO:+0100
TZNAME:CET
DTSTART:20231029T010000
END:STANDARD
BEGIN:DAYLIGHT
TZOFFSETFROM:+0100
TZOFFSETTO:+0200
TZNAME:CEST
DTSTART:20240331T010000
END:DAYLIGHT
BEGIN:STANDARD
TZOFFSETFROM:+0200
TZOFFSETTO:+0100
TZNAME:CET
DTSTART:20241027T010000
END:STANDARD
BEGIN:DAYLIGHT
TZOFFSETFROM:+0100
TZOFFSETTO:+0200
TZNAME:CEST
DTSTART:20250330T010000
END:DAYLIGHT
BEGIN:STANDARD
TZOFFSETFROM:+0200
TZOFFSETTO:+0100
TZNAME:CET
DTSTART:20251026T010000
END:STANDARD
END:VTIMEZONE
BEGIN:VEVENT
DTSTART;TZID=Europe/Berlin:20240321T170000
DTEND;TZID=Europe/Berlin:20240321T190000
DTSTAMP:20260421T103506
CREATED:20240318T140336Z
LAST-MODIFIED:20240319T111311Z
UID:10000033-1711040400-1711047600@www.jutta-paulus.de
SUMMARY:Burggespräch der Europa-Union Mayen-Koblenz
DESCRIPTION:
URL:https://www.jutta-paulus.de/event/burggespraech-der-europa-union-mayen-koblenz/
LOCATION:Mayen\, Genovevaburg\, Eifelmuseum\, Mario-Adorf-Burgweg 1\, Mayen\, Rheinland-Pfalz\, 56727\, Deutschland
ATTACH;FMTTYPE=image/jpeg:https://www.jutta-paulus.de/wp-content/uploads/2024/03/IMG_1704.jpg
END:VEVENT
END:VCALENDAR