BEGIN:VCALENDAR
VERSION:2.0
PRODID:-//Jutta Paulus - ECPv6.15.20//NONSGML v1.0//EN
CALSCALE:GREGORIAN
METHOD:PUBLISH
X-WR-CALNAME:Jutta Paulus
X-ORIGINAL-URL:https://www.jutta-paulus.de
X-WR-CALDESC:Veranstaltungen für Jutta Paulus
REFRESH-INTERVAL;VALUE=DURATION:PT1H
X-Robots-Tag:noindex
X-PUBLISHED-TTL:PT1H
BEGIN:VTIMEZONE
TZID:Europe/Berlin
BEGIN:DAYLIGHT
TZOFFSETFROM:+0100
TZOFFSETTO:+0200
TZNAME:CEST
DTSTART:20230326T010000
END:DAYLIGHT
BEGIN:STANDARD
TZOFFSETFROM:+0200
TZOFFSETTO:+0100
TZNAME:CET
DTSTART:20231029T010000
END:STANDARD
BEGIN:DAYLIGHT
TZOFFSETFROM:+0100
TZOFFSETTO:+0200
TZNAME:CEST
DTSTART:20240331T010000
END:DAYLIGHT
BEGIN:STANDARD
TZOFFSETFROM:+0200
TZOFFSETTO:+0100
TZNAME:CET
DTSTART:20241027T010000
END:STANDARD
BEGIN:DAYLIGHT
TZOFFSETFROM:+0100
TZOFFSETTO:+0200
TZNAME:CEST
DTSTART:20250330T010000
END:DAYLIGHT
BEGIN:STANDARD
TZOFFSETFROM:+0200
TZOFFSETTO:+0100
TZNAME:CET
DTSTART:20251026T010000
END:STANDARD
END:VTIMEZONE
BEGIN:VEVENT
DTSTART;TZID=Europe/Berlin:20241024T180000
DTEND;TZID=Europe/Berlin:20241024T190000
DTSTAMP:20260420T122412
CREATED:20241023T111709Z
LAST-MODIFIED:20241023T111709Z
UID:10000067-1729792800-1729796400@www.jutta-paulus.de
SUMMARY:Update von der UN-Biodiversitätskonferenz
DESCRIPTION:Die Welt blickt gespannt nach Cali\, Kolumbien\, wo derzeit die 16. UN-Biodiversitätskonferenz (COP16) stattfindet. Diese internationale Konferenz markiert einen wichtigen Moment im Kampf gegen das weltweite Artensterben. Wie weiter nach dem Kunming-Montreal-Abkommen? Der Verlust von Biodiversität beschleunigt sich weiter – mit gravierenden Folgen für Mensch und Natur. Gleichzeitig müssen wir klarer herausstellen\, dass Artenschutz und Klimakrise untrennbar miteinander verknüpft sind.   \nIn dieser kritischen Phase möchte ich Euch am 24.10.2024 um 18:00 Uhr zu einem Webinar einladen\, bei dem wir aktuelle Einblicke direkt von der COP16 und eine wissenschaftliche Einschätzung zum Artensterben präsentieren.  \nDaher freue ich mich auf meine Gäste Sebastian Amler\, COP 16-Jugenddelegierter und Naturschutzjugend\, und Prof. Dr. Katrin Böhning-Gaese\, wissenschaftliche Geschäftsführerin des Helmholtz-Zentrum für Umweltforschung Leipzig.  \nProf. Dr. Katrin Böhning-Gaese wird einen Überblick über den Stand des Artenschutzes geben. Wo stehen wir im globalen Artenschutz? Der aktuelle Living Planet Report sowie der Faktencheck Artenvielfalt zeigen\, dass viele Lebensräume weltweit – auch in Europa – in einem besorgniserregenden Zustand sind. Was also müssen wir konkret tun\, um sowohl das Artensterben zu stoppen als auch die Klimakrise zu bewältigen?  \nIm Anschluss wird Sebastian Amler live aus Kolumbien zugeschaltet sein. Sebastian wird uns direkt von den Verhandlungen der COP16 berichten: Wie ist die Lage vor Ort? Was wurde bisher erreicht und welche Hürden müssen noch überwunden werden\, um das Artensterben zu stoppen?  \nSchon jetzt ist klar: Eine wichtige Rolle werden Nature-based Solutions spielen. Das bedeutet\, durch Schutz und Renaturierung von Ökosystemen Klimaschutz und Klimaanpassung voranzubringen.  \nDenn eines ist sicher: Der Zustand unserer Natur erfordert dringendes Handeln und nur wenn wir Klimaschutz und Artenschutz zusammen denken\, können wir den Herausforderungen unserer Zeit gerecht werden.  \nIch freue mich auf Euch!  \nEure Jutta Paulus 
URL:https://www.jutta-paulus.de/event/update-von-der-un-biodiversitaetskonferenz/
CATEGORIES:Termine,Webinare
ATTACH;FMTTYPE=image/jpeg:https://www.jutta-paulus.de/wp-content/uploads/2024/10/241024_VA_Webinar_COP16_Update_Gross.jpg
END:VEVENT
END:VCALENDAR