BEGIN:VCALENDAR
VERSION:2.0
PRODID:-//Jutta Paulus - ECPv6.15.20//NONSGML v1.0//EN
CALSCALE:GREGORIAN
METHOD:PUBLISH
X-WR-CALNAME:Jutta Paulus
X-ORIGINAL-URL:https://www.jutta-paulus.de
X-WR-CALDESC:Veranstaltungen für Jutta Paulus
REFRESH-INTERVAL;VALUE=DURATION:PT1H
X-Robots-Tag:noindex
X-PUBLISHED-TTL:PT1H
BEGIN:VTIMEZONE
TZID:Europe/Berlin
BEGIN:DAYLIGHT
TZOFFSETFROM:+0100
TZOFFSETTO:+0200
TZNAME:CEST
DTSTART:20250330T010000
END:DAYLIGHT
BEGIN:STANDARD
TZOFFSETFROM:+0200
TZOFFSETTO:+0100
TZNAME:CET
DTSTART:20251026T010000
END:STANDARD
BEGIN:DAYLIGHT
TZOFFSETFROM:+0100
TZOFFSETTO:+0200
TZNAME:CEST
DTSTART:20260329T010000
END:DAYLIGHT
BEGIN:STANDARD
TZOFFSETFROM:+0200
TZOFFSETTO:+0100
TZNAME:CET
DTSTART:20261025T010000
END:STANDARD
BEGIN:DAYLIGHT
TZOFFSETFROM:+0100
TZOFFSETTO:+0200
TZNAME:CEST
DTSTART:20270328T010000
END:DAYLIGHT
BEGIN:STANDARD
TZOFFSETFROM:+0200
TZOFFSETTO:+0100
TZNAME:CET
DTSTART:20271031T010000
END:STANDARD
END:VTIMEZONE
BEGIN:VEVENT
DTSTART;TZID=Europe/Berlin:20260421T160000
DTEND;TZID=Europe/Berlin:20260421T180000
DTSTAMP:20260421T014533
CREATED:20260414T130254Z
LAST-MODIFIED:20260414T130254Z
UID:10000134-1776787200-1776794400@www.jutta-paulus.de
SUMMARY:Naturbegehung mit der Lech Allianz und den Grünen Augsburg
DESCRIPTION:Weitere Informationen auf Anfrage unter hanna.thiele@la.europarl.europa.eu
URL:https://www.jutta-paulus.de/event/naturbegehung-mit-der-lech-allianz-und-den-gruenen-augsburg/
CATEGORIES:Termine
ATTACH;FMTTYPE=image/jpeg:https://www.jutta-paulus.de/wp-content/uploads/2025/11/Wasser_fuer_Alle_Tour_Logo-scaled.jpg
END:VEVENT
END:VCALENDAR