BEGIN:VCALENDAR
VERSION:2.0
PRODID:-//Jutta Paulus - ECPv6.15.20//NONSGML v1.0//EN
CALSCALE:GREGORIAN
METHOD:PUBLISH
X-WR-CALNAME:Jutta Paulus
X-ORIGINAL-URL:https://www.jutta-paulus.de
X-WR-CALDESC:Veranstaltungen für Jutta Paulus
REFRESH-INTERVAL;VALUE=DURATION:PT1H
X-Robots-Tag:noindex
X-PUBLISHED-TTL:PT1H
BEGIN:VTIMEZONE
TZID:Europe/Berlin
BEGIN:DAYLIGHT
TZOFFSETFROM:+0100
TZOFFSETTO:+0200
TZNAME:CEST
DTSTART:20250330T010000
END:DAYLIGHT
BEGIN:STANDARD
TZOFFSETFROM:+0200
TZOFFSETTO:+0100
TZNAME:CET
DTSTART:20251026T010000
END:STANDARD
BEGIN:DAYLIGHT
TZOFFSETFROM:+0100
TZOFFSETTO:+0200
TZNAME:CEST
DTSTART:20260329T010000
END:DAYLIGHT
BEGIN:STANDARD
TZOFFSETFROM:+0200
TZOFFSETTO:+0100
TZNAME:CET
DTSTART:20261025T010000
END:STANDARD
BEGIN:DAYLIGHT
TZOFFSETFROM:+0100
TZOFFSETTO:+0200
TZNAME:CEST
DTSTART:20270328T010000
END:DAYLIGHT
BEGIN:STANDARD
TZOFFSETFROM:+0200
TZOFFSETTO:+0100
TZNAME:CET
DTSTART:20271031T010000
END:STANDARD
END:VTIMEZONE
BEGIN:VEVENT
DTSTART;TZID=Europe/Berlin:20260422T130000
DTEND;TZID=Europe/Berlin:20260422T140000
DTSTAMP:20260422T015118
CREATED:20260414T131620Z
LAST-MODIFIED:20260414T131620Z
UID:10000140-1776862800-1776866400@www.jutta-paulus.de
SUMMARY:Mittagessen mit den Grünen Augsburg
DESCRIPTION:Weitere Informationen auf Anfrage unter hanna.thiele@la.europarl.europa.eu
URL:https://www.jutta-paulus.de/event/mittagessen-mit-den-gruenen-augsburg/
CATEGORIES:Termine
ATTACH;FMTTYPE=image/jpeg:https://www.jutta-paulus.de/wp-content/uploads/2025/11/Wasser_fuer_Alle_Tour_Logo-scaled.jpg
END:VEVENT
BEGIN:VEVENT
DTSTART;TZID=Europe/Berlin:20260422T150000
DTEND;TZID=Europe/Berlin:20260422T170000
DTSTAMP:20260422T015118
CREATED:20260414T130424Z
LAST-MODIFIED:20260414T130424Z
UID:10000135-1776870000-1776877200@www.jutta-paulus.de
SUMMARY:Besichtigung der Kläranlage Augsburg
DESCRIPTION:Weitere Informationen auf Anfrage unter hanna.thiele@la.europarl.europa.eu
URL:https://www.jutta-paulus.de/event/besichtigung-der-klaeranlage-augsburg/
CATEGORIES:Termine
ATTACH;FMTTYPE=image/jpeg:https://www.jutta-paulus.de/wp-content/uploads/2025/11/Wasser_fuer_Alle_Tour_Logo-scaled.jpg
END:VEVENT
BEGIN:VEVENT
DTSTART;TZID=Europe/Berlin:20260422T200000
DTEND;TZID=Europe/Berlin:20260422T210000
DTSTAMP:20260422T015118
CREATED:20260413T112051Z
LAST-MODIFIED:20260421T131228Z
UID:10000133-1776888000-1776891600@www.jutta-paulus.de
SUMMARY:40 Jahre Tschernobyl - Erinnern heißt Handeln
DESCRIPTION:Jetzt direkt anmelden \nDie Explosion des Atomreaktors Tschernobyl im April 1986 gilt bis heute als eine der schwersten Umweltkatastrophen der Geschichte. Die Folgen für Mensch und Umwelt sind bis heute in ganz Europa spürbar. Der Super-GAU von Tschernobyl erinnert uns eindringlich daran\, welche Risiken mit der Nutzung der Atomkraft verbunden sind. \n40 Jahre später erleben wir jedoch eine absurde Renaissance der antiquierten Atomdebatte: Mini-Atomkraftwerke werden als vermeintliche Lösung für Energie- und Klimaprobleme präsentiert\, oft ohne eine ehrliche Auseinandersetzung mit ihren bekannten Problemen: \n\nHohe Kosten\nUngelöste Endlagerfragen\nSicherheitsrisiken\nNeue geopolitische Abhängigkeiten\, etwa durch Uranimporte aus autoritären Staaten wie Russland\n\nAll das wird in der Debatte ausgeblendet. \nGemeinsam mit dem Umwelt- und Technikhistoriker Prof. Dr. Frank Uekötter werfe ich einen fundierten Blick zurück auf Tschernobyl und diskutiere\, welche Lehren wir heute daraus ziehen müssen. Prof. Uekötter forscht seit vielen Jahren zur Geschichte von Umweltpolitik und Energie und bringt eine historische Perspektive in die aktuelle Debatte ein. \nDatum: 22. April 2026 \nUhrzeit: 20:00–21:00 Uhr auf Zoom \nDiskutiert mit uns über Vergangenheit\, Gegenwart und Zukunft unserer Energiepolitik\, ich freue mich auf Euch! \nMit europäischen Grüßen\, Eure Jutta Paulus
URL:https://www.jutta-paulus.de/event/40-jahre-tschernobyl-erinnern-heisst-handeln/
CATEGORIES:Termine,Webinare
ATTACH;FMTTYPE=image/jpeg:https://www.jutta-paulus.de/wp-content/uploads/2026/04/250422_VA_Webinar_Tschernobyl-1-scaled.jpg
END:VEVENT
END:VCALENDAR