BEGIN:VCALENDAR
VERSION:2.0
PRODID:-//Jutta Paulus - ECPv6.15.20//NONSGML v1.0//EN
CALSCALE:GREGORIAN
METHOD:PUBLISH
X-WR-CALNAME:Jutta Paulus
X-ORIGINAL-URL:https://www.jutta-paulus.de
X-WR-CALDESC:Veranstaltungen für Jutta Paulus
REFRESH-INTERVAL;VALUE=DURATION:PT1H
X-Robots-Tag:noindex
X-PUBLISHED-TTL:PT1H
BEGIN:VTIMEZONE
TZID:Europe/Berlin
BEGIN:DAYLIGHT
TZOFFSETFROM:+0100
TZOFFSETTO:+0200
TZNAME:CEST
DTSTART:20250330T010000
END:DAYLIGHT
BEGIN:STANDARD
TZOFFSETFROM:+0200
TZOFFSETTO:+0100
TZNAME:CET
DTSTART:20251026T010000
END:STANDARD
BEGIN:DAYLIGHT
TZOFFSETFROM:+0100
TZOFFSETTO:+0200
TZNAME:CEST
DTSTART:20260329T010000
END:DAYLIGHT
BEGIN:STANDARD
TZOFFSETFROM:+0200
TZOFFSETTO:+0100
TZNAME:CET
DTSTART:20261025T010000
END:STANDARD
BEGIN:DAYLIGHT
TZOFFSETFROM:+0100
TZOFFSETTO:+0200
TZNAME:CEST
DTSTART:20270328T010000
END:DAYLIGHT
BEGIN:STANDARD
TZOFFSETFROM:+0200
TZOFFSETTO:+0100
TZNAME:CET
DTSTART:20271031T010000
END:STANDARD
END:VTIMEZONE
BEGIN:VEVENT
DTSTART;TZID=Europe/Berlin:20260423T160000
DTEND;TZID=Europe/Berlin:20260423T180000
DTSTAMP:20260423T022115
CREATED:20260414T130616Z
LAST-MODIFIED:20260414T130616Z
UID:10000136-1776960000-1776967200@www.jutta-paulus.de
SUMMARY:Besuch der Initiative No PFAS Manching
DESCRIPTION:Weitere Informationen auf Anfrage unter hanna.thiele@la.europarl.europa.eu
URL:https://www.jutta-paulus.de/event/besuch-der-initiative-no-pfas-manching/
CATEGORIES:Termine
ATTACH;FMTTYPE=image/jpeg:https://www.jutta-paulus.de/wp-content/uploads/2025/11/Wasser_fuer_Alle_Tour_Logo-scaled.jpg
END:VEVENT
BEGIN:VEVENT
DTSTART;TZID=Europe/Berlin:20260423T193000
DTEND;TZID=Europe/Berlin:20260423T210000
DTSTAMP:20260423T022115
CREATED:20260414T130823Z
LAST-MODIFIED:20260414T130823Z
UID:10000137-1776972600-1776978000@www.jutta-paulus.de
SUMMARY:Stammtisch für Biodiversität der Grünen München OV Neuhausen-Nymphenburg
DESCRIPTION:Weitere Informationen auf Anfrage unter hanna.thiele@la.europarl.europa.eu
URL:https://www.jutta-paulus.de/event/stammtisch-fuer-biodiversitaet-der-gruenen-muenchen-ov-neuhausen-nymphenburg/
CATEGORIES:Termine
ATTACH;FMTTYPE=image/jpeg:https://www.jutta-paulus.de/wp-content/uploads/2025/11/Wasser_fuer_Alle_Tour_Logo-scaled.jpg
END:VEVENT
END:VCALENDAR