BEGIN:VCALENDAR
VERSION:2.0
PRODID:-//Jutta Paulus - ECPv6.15.20//NONSGML v1.0//EN
CALSCALE:GREGORIAN
METHOD:PUBLISH
X-ORIGINAL-URL:https://www.jutta-paulus.de
X-WR-CALDESC:Veranstaltungen für Jutta Paulus
REFRESH-INTERVAL;VALUE=DURATION:PT1H
X-Robots-Tag:noindex
X-PUBLISHED-TTL:PT1H
BEGIN:VTIMEZONE
TZID:Europe/Berlin
BEGIN:DAYLIGHT
TZOFFSETFROM:+0100
TZOFFSETTO:+0200
TZNAME:CEST
DTSTART:20230326T010000
END:DAYLIGHT
BEGIN:STANDARD
TZOFFSETFROM:+0200
TZOFFSETTO:+0100
TZNAME:CET
DTSTART:20231029T010000
END:STANDARD
BEGIN:DAYLIGHT
TZOFFSETFROM:+0100
TZOFFSETTO:+0200
TZNAME:CEST
DTSTART:20240331T010000
END:DAYLIGHT
BEGIN:STANDARD
TZOFFSETFROM:+0200
TZOFFSETTO:+0100
TZNAME:CET
DTSTART:20241027T010000
END:STANDARD
BEGIN:DAYLIGHT
TZOFFSETFROM:+0100
TZOFFSETTO:+0200
TZNAME:CEST
DTSTART:20250330T010000
END:DAYLIGHT
BEGIN:STANDARD
TZOFFSETFROM:+0200
TZOFFSETTO:+0100
TZNAME:CET
DTSTART:20251026T010000
END:STANDARD
END:VTIMEZONE
BEGIN:VEVENT
DTSTART;TZID=Europe/Berlin:20240428T100000
DTEND;TZID=Europe/Berlin:20240428T110000
DTSTAMP:20260422T131012
CREATED:20240423T143141Z
LAST-MODIFIED:20240423T143141Z
UID:10000052-1714298400-1714302000@www.jutta-paulus.de
SUMMARY:Begehung des Mainzer Sand
DESCRIPTION:Begehung des Mainzer Sandes mit der Europaabgeordneten Kandidatin für das Europäische Parlament\, Jutta Paulus\, gemeinsam mit dem Ortsvorsteherkandidaten für Mainz-Mombach\, Ansgar Helm-Becker. Es geht dabei um den kontroversen Ausbau der Autobahn A646. Mit dabei ist Janina Steinkrüger von den Mombacher Grünen. Alle interessierten Bürger:innen sind herzlich eingeladen.
URL:https://www.jutta-paulus.de/event/begehung-des-mainzer-sand/
LOCATION:Mainzer Sand\, Mainz\, Rheinland-Pfalz\, Deutschland
END:VEVENT
END:VCALENDAR